BEGIN:VCALENDAR
VERSION:2.0
PRODID:-//Sabre//Sabre VObject 4.5.8//EN
CALSCALE:GREGORIAN
BEGIN:VEVENT
UID:sabre-vobject-4726366c-b581-41a4-b62d-0797672147d4
DTSTAMP:20260423T090109Z
SUMMARY:Auf den Spuren des Malerpfarrers Sieger Köder
DESCRIPTION:https://keb-ll.de/starnberg-landsberg/veranstaltungen/auf-den-s
 puren-des-malerpfarrers-sieger-koeder_id238844
DTSTART;TZID=Europe/Berlin:20240907T093000
LOCATION:Sieger-Köder-Museum\, Nikolaistraße 12\, 73479 Ellwangen (Jagst)
END:VEVENT
END:VCALENDAR
