BEGIN:VCALENDAR
VERSION:2.0
PRODID:-//Sabre//Sabre VObject 4.5.8//EN
CALSCALE:GREGORIAN
BEGIN:VEVENT
UID:sabre-vobject-d0d4cd0a-0ab0-4e3d-afb9-53edd1e579ce
DTSTAMP:20260426T025521Z
SUMMARY:Die Bibel lesen und verstehen
DESCRIPTION:https://keb-ll.de/starnberg-landsberg/veranstaltungen/die-bibel
 -lesen-und-verstehen_id250157
DTSTART;TZID=Europe/Berlin:20250428T200000
LOCATION:Pfarrheim Geltendorf\, Schulstraße 6\, 82269 Geltendorf
END:VEVENT
END:VCALENDAR
