BEGIN:VCALENDAR
VERSION:2.0
PRODID:-//Sabre//Sabre VObject 4.5.8//EN
CALSCALE:GREGORIAN
BEGIN:VEVENT
UID:sabre-vobject-1585a6a3-41ba-48d1-8427-b60140527a71
DTSTAMP:20260424T004252Z
SUMMARY:Ökumenische Reise nach Venezien
DESCRIPTION:https://keb-ll.de/starnberg-landsberg/veranstaltungen/oekumenis
 che-reise-nach-venezien_id265935
DTSTART;TZID=Europe/Berlin:20250422T080000
DTEND;TZID=Europe/Berlin:20250427T190000
LOCATION:Roncallihaus\, Kirchenstraße 10\, 82327 Tutzing
END:VEVENT
END:VCALENDAR
