BEGIN:VCALENDAR
VERSION:2.0
PRODID:-//Sabre//Sabre VObject 4.5.8//EN
CALSCALE:GREGORIAN
BEGIN:VEVENT
UID:sabre-vobject-d26f46fe-9401-429c-9d2d-f923a3a1254a
DTSTAMP:20260425T034717Z
SUMMARY:Walburgisnacht mit Pimpernella Pumpelsack
DESCRIPTION:https://keb-ll.de/starnberg-landsberg/veranstaltungen/walburgis
 nacht-mit-pimpernella-pumpelsack_id275675
DTSTART;TZID=Europe/Berlin:20250430T190000
LOCATION:Roncallihaus\, Kirchenstraße 10\, 82327 Tutzing
END:VEVENT
END:VCALENDAR
