BEGIN:VCALENDAR
VERSION:2.0
PRODID:-//Sabre//Sabre VObject 4.5.8//EN
CALSCALE:GREGORIAN
BEGIN:VEVENT
UID:sabre-vobject-8cbe13d1-b652-4484-8677-199217a8aff6
DTSTAMP:20260421T083717Z
SUMMARY:TAIJI-KURS
DESCRIPTION:https://keb-ll.de/starnberg-landsberg/veranstaltungen/taiji-kur
 s_id280744
DTSTART;TZID=Europe/Berlin:20250710T170000
DTEND;TZID=Europe/Berlin:20250713T133000
LOCATION:Exerzitienhaus\, Erzabtei 3\, 86941 Eresing
END:VEVENT
END:VCALENDAR
