BEGIN:VCALENDAR
VERSION:2.0
PRODID:-//Sabre//Sabre VObject 4.5.8//EN
CALSCALE:GREGORIAN
BEGIN:VEVENT
UID:sabre-vobject-6ea5504c-8a1c-493c-8a0e-82965e97c6bb
DTSTAMP:20260421T084545Z
SUMMARY:QiGong
DESCRIPTION:https://keb-ll.de/starnberg-landsberg/veranstaltungen/qigong_id
 304914
DTSTART;TZID=Europe/Berlin:20260429T093000
DTEND;TZID=Europe/Berlin:20260429T103000
LOCATION:Nachbarschaftshilfe Feldafing e. V.\, Schluchtweg 9B\, 82340 Felda
 fing
END:VEVENT
END:VCALENDAR
