BEGIN:VCALENDAR
VERSION:2.0
PRODID:-//Sabre//Sabre VObject 4.5.8//EN
CALSCALE:GREGORIAN
BEGIN:VEVENT
UID:sabre-vobject-f734c9ac-e6fc-4003-b722-c4b05ab8b2ae
DTSTAMP:20260419T202026Z
SUMMARY:Meditation
DESCRIPTION:https://keb-ll.de/starnberg-landsberg/veranstaltungen/meditatio
 n_id305007
DTSTART;TZID=Europe/Berlin:20260601T180000
DTEND;TZID=Europe/Berlin:20260601T190000
LOCATION:Nachbarschaftshilfe Feldafing e. V.\, Schluchtweg 9B\, 82340 Felda
 fing
END:VEVENT
END:VCALENDAR
