BEGIN:VCALENDAR
VERSION:2.0
PRODID:-//Sabre//Sabre VObject 4.5.8//EN
CALSCALE:GREGORIAN
BEGIN:VEVENT
UID:sabre-vobject-171fad48-0f26-4d4e-a513-7814953827de
DTSTAMP:20260420T091009Z
SUMMARY:Mutter/Vater-Kind-Gruppe
DESCRIPTION:https://keb-ll.de/starnberg-landsberg/veranstaltungen/mutter-va
 ter-kind-gruppe_id305027
DTSTART;TZID=Europe/Berlin:20260414T090000
DTEND;TZID=Europe/Berlin:20260414T110000
LOCATION:Nachbarschaftshilfe Feldafing e. V.\, Schluchtweg 9B\, 82340 Felda
 fing
END:VEVENT
END:VCALENDAR
