BEGIN:VCALENDAR
VERSION:2.0
PRODID:-//Sabre//Sabre VObject 4.5.8//EN
CALSCALE:GREGORIAN
BEGIN:VEVENT
UID:sabre-vobject-8d07389b-606e-4c06-a471-d0bb04469aff
DTSTAMP:20260422T134109Z
SUMMARY:Aromatherapie
DESCRIPTION:https://keb-ll.de/starnberg-landsberg/veranstaltungen/aromather
 apie_id310900
DTSTART;TZID=Europe/Berlin:20260428T193000
LOCATION:Roncallihaus\, Kirchenstraße 10\, 82327 Tutzing
END:VEVENT
END:VCALENDAR
