BEGIN:VCALENDAR
VERSION:2.0
PRODID:-//Sabre//Sabre VObject 4.5.8//EN
CALSCALE:GREGORIAN
BEGIN:VEVENT
UID:sabre-vobject-de7ff3d4-2abb-4d61-9021-ac516c869e39
DTSTAMP:20260419T125026Z
SUMMARY:Gymnastik für Senioren
DESCRIPTION:https://keb-ll.de/starnberg-landsberg/veranstaltungen/gymnastik
 -fuer-senioren_id318394
DTSTART;TZID=Europe/Berlin:20260713T173000
DTEND;TZID=Europe/Berlin:20260713T183000
LOCATION:Roncallihaus\, Kirchenstraße 10\, 82327 Tutzing
END:VEVENT
END:VCALENDAR
