BEGIN:VCALENDAR
VERSION:2.0
PRODID:-//Sabre//Sabre VObject 4.5.8//EN
CALSCALE:GREGORIAN
BEGIN:VEVENT
UID:sabre-vobject-61cc74c8-379d-4686-98e8-36cf5dbbc861
DTSTAMP:20260420T145947Z
SUMMARY:Handytraining
DESCRIPTION:https://keb-ll.de/starnberg-landsberg/veranstaltungen/handytrai
 ning_id320531
DTSTART;TZID=Europe/Berlin:20260428T100000
DTEND;TZID=Europe/Berlin:20260428T113000
LOCATION:Mehr Generationen Haus\, Roseggerstraße 2\, 82229 Seefeld
END:VEVENT
END:VCALENDAR
