BEGIN:VCALENDAR
VERSION:2.0
PRODID:-//Sabre//Sabre VObject 4.5.8//EN
CALSCALE:GREGORIAN
BEGIN:VEVENT
UID:sabre-vobject-d43dc288-6a98-41ba-961c-f3cc7686c07f
DTSTAMP:20260422T134915Z
SUMMARY:Kath-Kurs
DESCRIPTION:https://keb-ll.de/starnberg-landsberg/veranstaltungen/kath-kurs
 _id320840
DTSTART;TZID=Europe/Berlin:20260428T190000
DTEND;TZID=Europe/Berlin:20260428T213000
LOCATION:Pfarrzentrum Starnberg\, Mühlbergstraße 6\, 82319 Starnberg
END:VEVENT
END:VCALENDAR
