BEGIN:VCALENDAR
VERSION:2.0
PRODID:-//Sabre//Sabre VObject 4.5.8//EN
CALSCALE:GREGORIAN
BEGIN:VEVENT
UID:sabre-vobject-a1b61b9b-95f0-4009-9b08-5bf1e51a7169
DTSTAMP:20260420T011751Z
SUMMARY:Das Land Kongo: Hungrige Herzen auf goldener Erde
DESCRIPTION:https://keb-ll.de/starnberg-landsberg/veranstaltungen/das-land-
 kongo-hungrige-herzen-auf-goldener-erde_id327203
DTSTART;TZID=Europe/Berlin:20260423T193000
LOCATION:Pfarrsaal Mariae Himmelfahrt\, Ludwigstraße 167\, 86899 Landsberg
  am Lech
END:VEVENT
END:VCALENDAR
