BEGIN:VCALENDAR
VERSION:2.0
PRODID:-//Sabre//Sabre VObject 4.5.8//EN
CALSCALE:GREGORIAN
BEGIN:VEVENT
UID:sabre-vobject-ff7b7997-7824-4571-83af-ca035171fe93
DTSTAMP:20260421T112609Z
SUMMARY:(Ver-)führungen - Kirche – Kultur - Bildung – Begegnung - Mona
 tliche Kirchenführungen und Kulturspaziergänge
DESCRIPTION:https://keb-ll.de/starnberg-landsberg/veranstaltungen/ver-fuehr
 ungen-kirche-kultur-bildung-begegnung-monatliche-kirchenfuehrungen-und-kul
 turspaziergaenge_id327751
DTSTART;TZID=Europe/Berlin:20260809T111500
LOCATION:Ascheringer Straße / Ecke\, Traubinger Straße 0\, 82340 Feldafin
 g
END:VEVENT
END:VCALENDAR
