BEGIN:VCALENDAR
VERSION:2.0
PRODID:-//Sabre//Sabre VObject 4.5.8//EN
CALSCALE:GREGORIAN
BEGIN:VEVENT
UID:sabre-vobject-108ce267-1eb3-423a-8340-9e2439430111
DTSTAMP:20260424T011149Z
SUMMARY:Rückenfit
DESCRIPTION:https://keb-ll.de/starnberg-landsberg/veranstaltungen/rueckenfi
 t_id327871
DTSTART;TZID=Europe/Berlin:20260430T104500
DTEND;TZID=Europe/Berlin:20260430T114500
LOCATION:Mehr Generationen Haus\, Roseggerstraße 2\, 82229 Seefeld
END:VEVENT
END:VCALENDAR
