BEGIN:VCALENDAR
VERSION:2.0
PRODID:-//Sabre//Sabre VObject 4.5.8//EN
CALSCALE:GREGORIAN
BEGIN:VEVENT
UID:sabre-vobject-5498f770-6d69-478c-820f-559a6fc6cc55
DTSTAMP:20260421T114053Z
SUMMARY:Mach mit – bleib fit 60+
DESCRIPTION:https://keb-ll.de/starnberg-landsberg/veranstaltungen/mach-mit-
 bleib-fit-60_id327887
DTSTART;TZID=Europe/Berlin:20260424T101500
DTEND;TZID=Europe/Berlin:20260424T114500
LOCATION:Mehr Generationen Haus\, Roseggerstraße 2\, 82229 Seefeld
END:VEVENT
END:VCALENDAR
