BEGIN:VCALENDAR
VERSION:2.0
PRODID:-//Sabre//Sabre VObject 4.5.8//EN
CALSCALE:GREGORIAN
BEGIN:VEVENT
UID:sabre-vobject-b75e5ae6-b004-49bc-be57-b46ac59a57e8
DTSTAMP:20260425T134333Z
SUMMARY:Mach mit – bleib fit 60+
DESCRIPTION:https://keb-ll.de/starnberg-landsberg/veranstaltungen/mach-mit-
 bleib-fit-60_id327888
DTSTART;TZID=Europe/Berlin:20260501T101500
DTEND;TZID=Europe/Berlin:20260501T114500
LOCATION:Mehr Generationen Haus\, Roseggerstraße 2\, 82229 Seefeld
END:VEVENT
END:VCALENDAR
