BEGIN:VCALENDAR
VERSION:2.0
PRODID:-//Sabre//Sabre VObject 4.5.8//EN
CALSCALE:GREGORIAN
BEGIN:VEVENT
UID:sabre-vobject-0ab4174c-91e0-433e-a495-bbf7757ae5a5
DTSTAMP:20260422T231154Z
SUMMARY:Eltern-Kind-Treffen Erziehungs- und Ernährungsfragen bei Kleinkind
 ern
DESCRIPTION:https://keb-ll.de/starnberg-landsberg/veranstaltungen/eltern-ki
 nd-treffen-erziehungs-und-ernaehrungsfragen-bei-kleinkindern_id55509
DTSTART;TZID=Europe/Berlin:20210727T090000
DTEND;TZID=Europe/Berlin:20210727T103000
LOCATION:Pfarrheim Erpfting\, Hauptstraße 34\, 86899 Landsberg am Lech
END:VEVENT
END:VCALENDAR
