BEGIN:VCALENDAR
VERSION:2.0
PRODID:-//Sabre//Sabre VObject 4.5.8//EN
CALSCALE:GREGORIAN
BEGIN:VEVENT
UID:sabre-vobject-6b6dd1f8-d6ea-46e8-bb8a-7ffd815270eb
DTSTAMP:20260423T085159Z
SUMMARY:Erziehungs- und Ernährungsfragen bei Kleinkindern
DESCRIPTION:https://keb-ll.de/starnberg-landsberg/veranstaltungen/erziehung
 s-und-ernaehrungsfragen-bei-kleinkindern_id56539
DTSTART;TZID=Europe/Berlin:20210804T090000
DTEND;TZID=Europe/Berlin:20210804T103000
LOCATION:Pfarrheim\, Schulstraße 12\, 86492 Egling an der Paar
END:VEVENT
END:VCALENDAR
