BEGIN:VCALENDAR
VERSION:2.0
PRODID:-//Sabre//Sabre VObject 4.5.8//EN
CALSCALE:GREGORIAN
BEGIN:VEVENT
UID:sabre-vobject-d37303b9-7caf-435d-8a7a-d0a3342af39d
DTSTAMP:20260421T174611Z
SUMMARY:Lebe\, liebe\, lache & sag den Abergeistern Servus!
DESCRIPTION:https://keb-ll.de/starnberg-landsberg/veranstaltungen/lebe-lieb
 e-lache-sag-den-abergeistern-servus_id56546
DTSTART;TZID=Europe/Berlin:20210801T170000
DTEND;TZID=Europe/Berlin:20210805T133000
LOCATION:Exerzitienhaus\, Erzabtei 1\, 86941 Eresing
END:VEVENT
END:VCALENDAR
