BEGIN:VCALENDAR
VERSION:2.0
PRODID:-//Sabre//Sabre VObject 4.5.8//EN
CALSCALE:GREGORIAN
BEGIN:VEVENT
UID:sabre-vobject-cacd2b29-3a87-4a94-bb48-78b04d5cc150
DTSTAMP:20260424T171540Z
SUMMARY:Fasten verändert nicht Gott\, sondern uns!
DESCRIPTION:https://keb-ll.de/starnberg-landsberg/veranstaltungen/fasten-ve
 raendert-nicht-gott-sondern-uns_id57482
DTSTART;TZID=Europe/Berlin:20210830T150000
DTEND;TZID=Europe/Berlin:20210905T133000
LOCATION:Exerzitienhaus\, Erzabtei 1\, 86941 Eresing
END:VEVENT
END:VCALENDAR
