BEGIN:VCALENDAR
VERSION:2.0
PRODID:-//Sabre//Sabre VObject 4.5.8//EN
CALSCALE:GREGORIAN
BEGIN:VEVENT
UID:sabre-vobject-b57597f4-3c15-4f7a-92ff-951991873ee9
DTSTAMP:20260421T105125Z
SUMMARY:Meine Ziele vor Augen
DESCRIPTION:https://keb-ll.de/starnberg-landsberg/veranstaltungen/meine-zie
 le-vor-augen_id57487
DTSTART;TZID=Europe/Berlin:20211016T090000
LOCATION:Exerzitienhaus\, Erzabtei 1\, 86941 Eresing
END:VEVENT
END:VCALENDAR
