BEGIN:VCALENDAR
VERSION:2.0
PRODID:-//Sabre//Sabre VObject 4.5.8//EN
CALSCALE:GREGORIAN
BEGIN:VEVENT
UID:sabre-vobject-e780aca3-1485-4b9e-92fe-6cb9ed5ad7be
DTSTAMP:20260419T170145Z
SUMMARY:Träumen und Farben
DESCRIPTION:https://keb-ll.de/starnberg-landsberg/veranstaltungen/traeumen-
 und-farben_id57508
DTSTART;TZID=Europe/Berlin:20211015T170000
DTEND;TZID=Europe/Berlin:20211017T133000
LOCATION:Exerzitienhaus\, Erzabtei 1\, 86941 Eresing
END:VEVENT
END:VCALENDAR
