BEGIN:VCALENDAR
VERSION:2.0
PRODID:-//Sabre//Sabre VObject 4.5.8//EN
CALSCALE:GREGORIAN
BEGIN:VEVENT
UID:sabre-vobject-4ebbcbe7-ed20-4d68-859f-92dd49ece0b9
DTSTAMP:20260420T224054Z
SUMMARY:Schatzsuche nach den Stärken
DESCRIPTION:https://keb-ll.de/starnberg-landsberg/veranstaltungen/schatzsuc
 he-nach-den-staerken_id57515
DTSTART;TZID=Europe/Berlin:20211203T170000
DTEND;TZID=Europe/Berlin:20211205T120000
LOCATION:Exerzitienhaus\, Erzabtei 1\, 86941 Eresing
END:VEVENT
END:VCALENDAR
