BEGIN:VCALENDAR
VERSION:2.0
PRODID:-//Sabre//Sabre VObject 4.5.8//EN
CALSCALE:GREGORIAN
BEGIN:VEVENT
UID:sabre-vobject-a71b9ebe-2d1c-4134-a158-8755c7e44068
DTSTAMP:20260424T025821Z
SUMMARY:„Zu Besuch bei Fürsten“
DESCRIPTION:https://keb-ll.de/starnberg-landsberg/veranstaltungen/zu-besuch
 -bei-fuersten_id57656
DTSTART;TZID=Europe/Berlin:20210904T070000
LOCATION:Pfarrzentrum\, Hindenburgring 15\, 86899 Landsberg am Lech
END:VEVENT
END:VCALENDAR
