BEGIN:VCALENDAR
VERSION:2.0
PRODID:-//Sabre//Sabre VObject 4.5.8//EN
CALSCALE:GREGORIAN
BEGIN:VEVENT
UID:sabre-vobject-d640c053-ada9-44bb-a1fe-fb8198b61eca
DTSTAMP:20260419T190351Z
SUMMARY:Eltern-Kind-Gruppe - Waldgruppe
DESCRIPTION:https://keb-ll.de/starnberg-landsberg/veranstaltungen/eltern-ki
 nd-gruppe-waldgruppe_id58606
DTSTART;TZID=Europe/Berlin:20211020T100000
DTEND;TZID=Europe/Berlin:20211020T120000
LOCATION:Pfarrzentrum\, Hindenburgring 15\, 86899 Landsberg am Lech
END:VEVENT
END:VCALENDAR
