BEGIN:VCALENDAR
VERSION:2.0
PRODID:-//Sabre//Sabre VObject 4.5.8//EN
CALSCALE:GREGORIAN
BEGIN:VEVENT
UID:sabre-vobject-865b31e5-6581-47e3-a3c3-09fd09aaa83a
DTSTAMP:20260420T191306Z
SUMMARY:Eltern-Kind-Gruppe - Waldgruppe
DESCRIPTION:https://keb-ll.de/starnberg-landsberg/veranstaltungen/eltern-ki
 nd-gruppe-waldgruppe_id58612
DTSTART;TZID=Europe/Berlin:20211201T100000
DTEND;TZID=Europe/Berlin:20211201T120000
LOCATION:Pfarrzentrum\, Hindenburgring 15\, 86899 Landsberg am Lech
END:VEVENT
END:VCALENDAR
