BEGIN:VCALENDAR
VERSION:2.0
PRODID:-//Sabre//Sabre VObject 4.5.8//EN
CALSCALE:GREGORIAN
BEGIN:VEVENT
UID:sabre-vobject-6311b1c7-e233-4cb4-b562-bcd783c2abde
DTSTAMP:20260420T164301Z
SUMMARY:Erziehungs-und Ernährungsfragen bei Kleinkindern
DESCRIPTION:https://keb-ll.de/starnberg-landsberg/veranstaltungen/erziehung
 s-und-ernaehrungsfragen-bei-kleinkindern_id58648
DTSTART;TZID=Europe/Berlin:20211208T090000
DTEND;TZID=Europe/Berlin:20211208T103000
LOCATION:Pfarrheim\, Schulstraße 12\, 86492 Egling an der Paar
END:VEVENT
END:VCALENDAR
