BEGIN:VCALENDAR
VERSION:2.0
PRODID:-//Sabre//Sabre VObject 4.5.8//EN
CALSCALE:GREGORIAN
BEGIN:VEVENT
UID:sabre-vobject-d7e548a2-dbc0-49a6-88ad-f6ab6f4dac9f
DTSTAMP:20260422T002204Z
SUMMARY:Erziehungs- und Ernährungsfragen bei Kleinkindern
DESCRIPTION:https://keb-ll.de/starnberg-landsberg/veranstaltungen/erziehung
 s-und-ernaehrungsfragen-bei-kleinkindern_id58654
DTSTART;TZID=Europe/Berlin:20211014T090000
DTEND;TZID=Europe/Berlin:20211014T103000
LOCATION:Pfarrheim\, Schulstraße 12\, 86492 Egling an der Paar
END:VEVENT
END:VCALENDAR
